BEGIN:VCALENDAR
VERSION:2.0
PRODID:-//Parma Rod &amp; Gun Club - ECPv6.15.20//NONSGML v1.0//EN
CALSCALE:GREGORIAN
METHOD:PUBLISH
X-WR-CALNAME:Parma Rod &amp; Gun Club
X-ORIGINAL-URL:https://www.parmarng.org
X-WR-CALDESC:Events for Parma Rod &amp; Gun Club
REFRESH-INTERVAL;VALUE=DURATION:PT1H
X-Robots-Tag:noindex
X-PUBLISHED-TTL:PT1H
BEGIN:VTIMEZONE
TZID:America/Boise
BEGIN:DAYLIGHT
TZOFFSETFROM:-0700
TZOFFSETTO:-0600
TZNAME:MDT
DTSTART:20250309T090000
END:DAYLIGHT
BEGIN:STANDARD
TZOFFSETFROM:-0600
TZOFFSETTO:-0700
TZNAME:MST
DTSTART:20251102T080000
END:STANDARD
BEGIN:DAYLIGHT
TZOFFSETFROM:-0700
TZOFFSETTO:-0600
TZNAME:MDT
DTSTART:20260308T090000
END:DAYLIGHT
BEGIN:STANDARD
TZOFFSETFROM:-0600
TZOFFSETTO:-0700
TZNAME:MST
DTSTART:20261101T080000
END:STANDARD
BEGIN:DAYLIGHT
TZOFFSETFROM:-0700
TZOFFSETTO:-0600
TZNAME:MDT
DTSTART:20270314T090000
END:DAYLIGHT
BEGIN:STANDARD
TZOFFSETFROM:-0600
TZOFFSETTO:-0700
TZNAME:MST
DTSTART:20271107T080000
END:STANDARD
END:VTIMEZONE
BEGIN:VEVENT
DTSTART;TZID=America/Boise:20260421T080000
DTEND;TZID=America/Boise:20260421T120000
DTSTAMP:20260421T030017
CREATED:20260324T142411Z
LAST-MODIFIED:20260413T131754Z
UID:10001295-1776758400-1776772800@www.parmarng.org
SUMMARY:Operational Training Co
DESCRIPTION:This is a USCCA CCW Instructor Course we were asked to host for the USCCA. This is not an Operational Training Co event however some of our instructors will be present in order to obtain their certification. It should only be the course of a couple hours at most.
URL:https://www.parmarng.org/event/operational-training-co/
LOCATION:Lower Pit 1
CATEGORIES:Uncategorized
ORGANIZER;CN="Elijah":MAILTO:Elijah@operationaltrainingco.com
END:VEVENT
BEGIN:VEVENT
DTSTART;TZID=America/Boise:20260421T080000
DTEND;TZID=America/Boise:20260421T170000
DTSTAMP:20260421T030017
CREATED:20260301T203826Z
LAST-MODIFIED:20260414T134740Z
UID:10000774-1776758400-1776790800@www.parmarng.org
SUMMARY:Steel Challenge
DESCRIPTION:Steel Challenge \nstart 10:00
URL:https://www.parmarng.org/event/steel-challenge/2026-04-21/
LOCATION:Main Pits 3\,5\,6\,7 Lower Pits 1-4
CATEGORIES:Steel Challenge
ATTACH;FMTTYPE=image/png:https://www.parmarng.org/wp-content/uploads/2025/12/scsa_logo.png
ORGANIZER;CN="Mike Wilmot":MAILTO:mike_vtx@hotmail.com
END:VEVENT
END:VCALENDAR