BEGIN:VCALENDAR
VERSION:2.0
PRODID:-//Parma Rod &amp; Gun Club - ECPv6.15.20//NONSGML v1.0//EN
CALSCALE:GREGORIAN
METHOD:PUBLISH
X-ORIGINAL-URL:https://www.parmarng.org
X-WR-CALDESC:Events for Parma Rod &amp; Gun Club
REFRESH-INTERVAL;VALUE=DURATION:PT1H
X-Robots-Tag:noindex
X-PUBLISHED-TTL:PT1H
BEGIN:VTIMEZONE
TZID:America/Boise
BEGIN:DAYLIGHT
TZOFFSETFROM:-0700
TZOFFSETTO:-0600
TZNAME:MDT
DTSTART:20260308T090000
END:DAYLIGHT
BEGIN:STANDARD
TZOFFSETFROM:-0600
TZOFFSETTO:-0700
TZNAME:MST
DTSTART:20261101T080000
END:STANDARD
BEGIN:DAYLIGHT
TZOFFSETFROM:-0700
TZOFFSETTO:-0600
TZNAME:MDT
DTSTART:20270314T090000
END:DAYLIGHT
BEGIN:STANDARD
TZOFFSETFROM:-0600
TZOFFSETTO:-0700
TZNAME:MST
DTSTART:20271107T080000
END:STANDARD
BEGIN:DAYLIGHT
TZOFFSETFROM:-0700
TZOFFSETTO:-0600
TZNAME:MDT
DTSTART:20280312T090000
END:DAYLIGHT
BEGIN:STANDARD
TZOFFSETFROM:-0600
TZOFFSETTO:-0700
TZNAME:MST
DTSTART:20281105T080000
END:STANDARD
END:VTIMEZONE
BEGIN:VEVENT
DTSTART;TZID=America/Boise:20270427T080000
DTEND;TZID=America/Boise:20270427T170000
DTSTAMP:20260422T030026
CREATED:20260301T203826Z
LAST-MODIFIED:20260414T134740Z
UID:10000827-1808812800-1808845200@www.parmarng.org
SUMMARY:Steel Challenge
DESCRIPTION:Steel Challenge \nstart 10:00
URL:https://www.parmarng.org/event/steel-challenge/2027-04-27/
LOCATION:Main Pits 3\,5\,6\,7 Lower Pits 1-4
CATEGORIES:Steel Challenge
ATTACH;FMTTYPE=image/png:https://www.parmarng.org/wp-content/uploads/2025/12/scsa_logo.png
ORGANIZER;CN="Mike Wilmot":MAILTO:mike_vtx@hotmail.com
END:VEVENT
BEGIN:VEVENT
DTSTART;TZID=America/Boise:20270427T190000
DTEND;TZID=America/Boise:20270427T200000
DTSTAMP:20260422T030026
CREATED:20260301T224725Z
LAST-MODIFIED:20260301T224725Z
UID:10001230-1808852400-1808856000@www.parmarng.org
SUMMARY:Board of Directors Meeting
DESCRIPTION:Board of Directors Meeting
URL:https://www.parmarng.org/event/board-of-directors-meeting-2/2027-04-27/
LOCATION:Clubhouse
CATEGORIES:Board of Directors Meeting
ATTACH;FMTTYPE=image/png:https://www.parmarng.org/wp-content/uploads/2025/12/prgc_logo.png
ORGANIZER;CN="Aaron Goodfellow":MAILTO:aarongoodfellow@hotmail.com
END:VEVENT
BEGIN:VEVENT
DTSTART;TZID=America/Boise:20270501T080000
DTEND;TZID=America/Boise:20270501T170000
DTSTAMP:20260422T030026
CREATED:20260301T210513Z
LAST-MODIFIED:20260301T210513Z
UID:10001037-1809158400-1809190800@www.parmarng.org
SUMMARY:LRTR Match
DESCRIPTION:Tower area North\, Railroad ties\, Rock 3 and 4 and the SE corner. 0800 to 2pm
URL:https://www.parmarng.org/event/lrtr-match/2027-05-01/
LOCATION:Main Rifle  Line\, Tower\, RR ties\, Rocks\, SE Corner
CATEGORIES:LRTR Long Range Tactical Rifle
ORGANIZER;CN="Neill Goodfellow":MAILTO:NJG308@fmtc.com
END:VEVENT
END:VCALENDAR